BEGIN:VCALENDAR
VERSION:2.0
PRODID:-//Alabama Board of Licensure for Professional Engineers and Land Surveyors - ECPv5.9.2//NONSGML v1.0//EN
CALSCALE:GREGORIAN
METHOD:PUBLISH
X-WR-CALNAME:Alabama Board of Licensure for Professional Engineers and Land Surveyors
X-ORIGINAL-URL:https://bels.alabama.gov
X-WR-CALDESC:Events for Alabama Board of Licensure for Professional Engineers and Land Surveyors
BEGIN:VTIMEZONE
TZID:America/Chicago
BEGIN:DAYLIGHT
TZOFFSETFROM:-0600
TZOFFSETTO:-0500
TZNAME:CDT
DTSTART:20190310T080000
END:DAYLIGHT
BEGIN:STANDARD
TZOFFSETFROM:-0500
TZOFFSETTO:-0600
TZNAME:CST
DTSTART:20191103T070000
END:STANDARD
END:VTIMEZONE
BEGIN:VEVENT
DTSTART;TZID=America/Chicago:20190523T000000
DTEND;TZID=America/Chicago:20190525T000000
DTSTAMP:20211015T175447
CREATED:20190513T135513Z
LAST-MODIFIED:20190513T140312Z
UID:1567-1558569600-1558742400@bels.alabama.gov
SUMMARY:3 Day Test Event
DESCRIPTION:Test item for calendar. Information about the event can go here along with any links to agendas\, events\, etc. \nThe information for the venu and contact can be added as well. \nTest Agenda Link
URL:https://bels.alabama.gov/event/test-item-3-2/
LOCATION:ASPE – Virtual\, AL\, United States
END:VEVENT
END:VCALENDAR